BEGIN:VCALENDAR
VERSION:2.0
PRODID:-//PYVOBJECT//NONSGML Version 0.9.9//EN
X-WR-TIMEZONE:Africa/Johannesburg
BEGIN:VTIMEZONE
TZID:Africa/Johannesburg
BEGIN:STANDARD
DTSTART:20000101T000000
RRULE:FREQ=YEARLY;BYMONTH=1
TZNAME:SAST
TZOFFSETFROM:+0200
TZOFFSETTO:+0200
END:STANDARD
END:VTIMEZONE
BEGIN:VEVENT
UID:20260423T165006Z - 92070@eos-content
DTSTART;TZID=Africa/Johannesburg:20260425T150000
DTEND;TZID=Africa/Johannesburg:20260425T160000
ATTENDEE:MAILTO:helene.gardner@seeff.com
DESCRIPTION:https://plettenbergbay.seeff.com/results/residential/for-sale/p
 lettenberg-bay/bowtie/house/3136990/\n\nFollow the On Show Boards\n\nHelen
 e Gardner (081 053 1911)
DTSTAMP:20260423T165006Z
LOCATION:Bowtie\, Plettenberg Bay
SUMMARY:Seeff Property Group Show Day - RLS1000704
END:VEVENT
END:VCALENDAR
